BEGIN:VCALENDAR
VERSION:2.0
PRODID:-//Landsmannschaft der Donauschwaben - Bundesverband e.V. - ECPv6.15.20//NONSGML v1.0//EN
CALSCALE:GREGORIAN
METHOD:PUBLISH
X-WR-CALNAME:Landsmannschaft der Donauschwaben - Bundesverband e.V.
X-ORIGINAL-URL:https://bundesverband-donauschwaben.de
X-WR-CALDESC:Veranstaltungen für Landsmannschaft der Donauschwaben - Bundesverband e.V.
REFRESH-INTERVAL;VALUE=DURATION:PT1H
X-Robots-Tag:noindex
X-PUBLISHED-TTL:PT1H
BEGIN:VTIMEZONE
TZID:Europe/Berlin
BEGIN:DAYLIGHT
TZOFFSETFROM:+0100
TZOFFSETTO:+0200
TZNAME:CEST
DTSTART:20250330T010000
END:DAYLIGHT
BEGIN:STANDARD
TZOFFSETFROM:+0200
TZOFFSETTO:+0100
TZNAME:CET
DTSTART:20251026T010000
END:STANDARD
BEGIN:DAYLIGHT
TZOFFSETFROM:+0100
TZOFFSETTO:+0200
TZNAME:CEST
DTSTART:20260329T010000
END:DAYLIGHT
BEGIN:STANDARD
TZOFFSETFROM:+0200
TZOFFSETTO:+0100
TZNAME:CET
DTSTART:20261025T010000
END:STANDARD
BEGIN:DAYLIGHT
TZOFFSETFROM:+0100
TZOFFSETTO:+0200
TZNAME:CEST
DTSTART:20270328T010000
END:DAYLIGHT
BEGIN:STANDARD
TZOFFSETFROM:+0200
TZOFFSETTO:+0100
TZNAME:CET
DTSTART:20271031T010000
END:STANDARD
END:VTIMEZONE
BEGIN:VEVENT
DTSTART;TZID=Europe/Berlin:20260420T000000
DTEND;TZID=Europe/Berlin:20260420T235959
DTSTAMP:20260420T233614
CREATED:20251220T092730Z
LAST-MODIFIED:20251220T092730Z
UID:4079-1776643200-1776729599@bundesverband-donauschwaben.de
SUMMARY:Familienabend OV Mutterstadt
DESCRIPTION:Familienabend OV Mutterstadt
URL:https://bundesverband-donauschwaben.de/event/familienabend-ov-mutterstadt-7
LOCATION:Haus der Vereine\, Mutterstadt\, Mutterstadt\, 67112\, Germany
ORGANIZER;CN="Ortsverband Mutterstadt":MAILTO:katharina@eicher-mueller.de
END:VEVENT
BEGIN:VEVENT
DTSTART;TZID=Europe/Berlin:20260424T150000
DTEND;TZID=Europe/Berlin:20260424T200000
DTSTAMP:20260420T233614
CREATED:20251220T084911Z
LAST-MODIFIED:20260222T181148Z
UID:4051-1777042800-1777060800@bundesverband-donauschwaben.de
SUMMARY:75-Jahrfeier Ortsverband Mutterstadt
DESCRIPTION:75-Jahrfeier Ortsverband Mutterstadt \nim Haus der Vereine\, 2. OG\, Schulstr. 8 in Mutterstadt \nInformation bei:\nKatharina Eicher-Müller\, Tel. 06237 – 979107\, E-Mail: katharina@eicher-mueller.de
URL:https://bundesverband-donauschwaben.de/event/75-jahrfeier-ortsverband-mutterstadt
LOCATION:Haus der Vereine\, Mutterstadt\, Mutterstadt\, 67112\, Germany
ORGANIZER;CN="Ortsverband Mutterstadt":MAILTO:katharina@eicher-mueller.de
END:VEVENT
BEGIN:VEVENT
DTSTART;TZID=Europe/Berlin:20260425T100000
DTEND;TZID=Europe/Berlin:20260425T153000
DTSTAMP:20260420T233614
CREATED:20260304T124900Z
LAST-MODIFIED:20260304T125016Z
UID:4567-1777111200-1777131000@bundesverband-donauschwaben.de
SUMMARY:Interview-Werkstatt in Haar
DESCRIPTION:Interview-Werkstatt in Haar im Kulturzentrum Haus der Donauschwaben
URL:https://bundesverband-donauschwaben.de/event/interviewwerkstatt-in-haar
LOCATION:Haus der Donauschwaben in Haar\, Leibstraße 33\, Haar\, Bayern\, 85540\, Germany
ATTACH;FMTTYPE=image/jpeg:https://bundesverband-donauschwaben.de/wp-content/uploads/2026/03/Werkstatt26Haar.jpg
ORGANIZER;CN="Landesverband Bayern":MAILTO:kulturzentrum@donauschwaben.bayern
END:VEVENT
BEGIN:VEVENT
DTSTART;TZID=Europe/Berlin:20260501T103000
DTEND;TZID=Europe/Berlin:20260501T170000
DTSTAMP:20260420T233614
CREATED:20251220T093159Z
LAST-MODIFIED:20260328T153153Z
UID:4089-1777631400-1777654800@bundesverband-donauschwaben.de
SUMMARY:Maifest SV Speyer im Haus Pannonia
DESCRIPTION:Maifest SV Speyer im Haus Pannonia
URL:https://bundesverband-donauschwaben.de/event/hauptversammlung-ov-mutterstadt-2
LOCATION:Haus Pannonia\, Friedrich-Ebert-Straße 106\, 67346 Speyer\, Speyer\, Germany
ATTACH;FMTTYPE=image/jpeg:https://bundesverband-donauschwaben.de/wp-content/uploads/2026/03/Maifest2026SP.jpeg
END:VEVENT
BEGIN:VEVENT
DTSTART;TZID=Europe/Berlin:20260504T000000
DTEND;TZID=Europe/Berlin:20260504T235959
DTSTAMP:20260420T233614
CREATED:20251220T092754Z
LAST-MODIFIED:20251220T092754Z
UID:4081-1777852800-1777939199@bundesverband-donauschwaben.de
SUMMARY:Familienabend OV Mutterstadt
DESCRIPTION:Familienabend OV Mutterstadt
URL:https://bundesverband-donauschwaben.de/event/familienabend-ov-mutterstadt-8
LOCATION:Haus der Vereine\, Mutterstadt\, Mutterstadt\, 67112\, Germany
ORGANIZER;CN="Ortsverband Mutterstadt":MAILTO:katharina@eicher-mueller.de
END:VEVENT
BEGIN:VEVENT
DTSTART;TZID=Europe/Berlin:20260507T150000
DTEND;TZID=Europe/Berlin:20260507T180000
DTSTAMP:20260420T233614
CREATED:20251220T094345Z
LAST-MODIFIED:20251220T094345Z
UID:4093-1778166000-1778176800@bundesverband-donauschwaben.de
SUMMARY:Seniorennachmittag im Haus Pannonia
DESCRIPTION:Seniorennachmittag im Haus Pannonia
URL:https://bundesverband-donauschwaben.de/event/seniorennachmittag-im-haus-pannonia-6
LOCATION:Haus Pannonia\, Friedrich-Ebert-Straße 106\, 67346 Speyer\, Speyer\, Germany
END:VEVENT
BEGIN:VEVENT
DTSTART;TZID=Europe/Berlin:20260509T110000
DTEND;TZID=Europe/Berlin:20260509T180000
DTSTAMP:20260420T233614
CREATED:20260304T123436Z
LAST-MODIFIED:20260304T123436Z
UID:4556-1778324400-1778349600@bundesverband-donauschwaben.de
SUMMARY:Heimattreffen der HOG Mramorak in Spaichingen
DESCRIPTION:Heimattreffen der HOG Mramorak in Spaichingen
URL:https://bundesverband-donauschwaben.de/event/heimattreffen-der-hog-mramorak-in-spaichingen
LOCATION:Haus der Musik und Heimat\, Spaichingen\, Hintere Schulgasse 6/1\, 78549 Spaichingen\, Spaichingen\, 78549\, Germany
ORGANIZER;CN="HOG Mramorak":MAILTO:fam.harich@t-online.de
END:VEVENT
BEGIN:VEVENT
DTSTART;TZID=Europe/Berlin:20260510T000000
DTEND;TZID=Europe/Berlin:20260510T235959
DTSTAMP:20260420T233614
CREATED:20260222T181459Z
LAST-MODIFIED:20260222T181459Z
UID:4508-1778371200-1778457599@bundesverband-donauschwaben.de
SUMMARY:OV Aldingen: Langosch Tag am Vereinsheim
DESCRIPTION:OV Aldingen: Langosch Tag am Vereinsheim
URL:https://bundesverband-donauschwaben.de/event/ov-aldingen-langosch-tag-am-vereinsheim
LOCATION:Vereinsheim Aldingen\, Aldingen\, Germany
END:VEVENT
BEGIN:VEVENT
DTSTART;TZID=Europe/Berlin:20260514T000000
DTEND;TZID=Europe/Berlin:20260514T235959
DTSTAMP:20260420T233614
CREATED:20251225T125846Z
LAST-MODIFIED:20251225T125846Z
UID:4126-1778716800-1778803199@bundesverband-donauschwaben.de
SUMMARY:Gelöbnis-Wallfahrt nach Bad Niedernau
DESCRIPTION:Gelöbnis-Wallfahrt nach Bad Niedernau
URL:https://bundesverband-donauschwaben.de/event/geloebnis-wallfahrt-nach-bad-niedernau
LOCATION:Bad Niedernau\, Bad Niedernau\, Germany
ORGANIZER;CN="St.-Gerhards-Werk Stuttgart":MAILTO:akvo@blh.drs.de
END:VEVENT
BEGIN:VEVENT
DTSTART;TZID=Europe/Berlin:20260515T000000
DTEND;TZID=Europe/Berlin:20260517T235959
DTSTAMP:20260420T233614
CREATED:20251220T095321Z
LAST-MODIFIED:20251220T095321Z
UID:4097-1778803200-1779062399@bundesverband-donauschwaben.de
SUMMARY:Weinfest KV Haßloch
DESCRIPTION:Weinfest KV Haßloch
URL:https://bundesverband-donauschwaben.de/event/weinfest-kv-hassloch
LOCATION:Haßloch\, Haßloch\, Germany
ORGANIZER;CN="DDL Ha%C3%9Floch":MAILTO:vorstand@donaudeutsche-hassloch.de
END:VEVENT
BEGIN:VEVENT
DTSTART;TZID=Europe/Berlin:20260516T000000
DTEND;TZID=Europe/Berlin:20260516T235959
DTSTAMP:20260420T233614
CREATED:20251220T095538Z
LAST-MODIFIED:20251220T095538Z
UID:4099-1778889600-1778975999@bundesverband-donauschwaben.de
SUMMARY:Treffen der HOG Budisawa im Haus Pannonia
DESCRIPTION:Treffen der HOG Budisawa im Haus Pannonia
URL:https://bundesverband-donauschwaben.de/event/treffen-der-hog-budisawa-im-haus-pannonia
LOCATION:Haus Pannonia\, Friedrich-Ebert-Straße 106\, 67346 Speyer\, Speyer\, Germany
END:VEVENT
BEGIN:VEVENT
DTSTART;TZID=Europe/Berlin:20260516T100000
DTEND;TZID=Europe/Berlin:20260516T180000
DTSTAMP:20260420T233614
CREATED:20260111T184535Z
LAST-MODIFIED:20260111T184913Z
UID:4165-1778925600-1778954400@bundesverband-donauschwaben.de
SUMMARY:Putincer Heimattreffen in Sindelfingen
DESCRIPTION:Putincer Heimattreffen im Haus der Donauschwaben in Sindelfingen \nAnmeldung bis zum 11. Mai an mp-didio@web.de
URL:https://bundesverband-donauschwaben.de/event/putincer-heimattreffen-in-sindelfingen
LOCATION:Haus der Donauschwaben in Sindelfingen\, Goldmühlestraße 30\, 71065 Sindelfingen\, Sindelfingen\, Germany
ORGANIZER;CN="HOG Putinci":MAILTO:mp-didio@t-online.de
END:VEVENT
BEGIN:VEVENT
DTSTART;TZID=Europe/Berlin:20260518T000000
DTEND;TZID=Europe/Berlin:20260518T235959
DTSTAMP:20260420T233614
CREATED:20251220T092819Z
LAST-MODIFIED:20251220T092819Z
UID:4083-1779062400-1779148799@bundesverband-donauschwaben.de
SUMMARY:Familienabend OV Mutterstadt
DESCRIPTION:Familienabend OV Mutterstadt
URL:https://bundesverband-donauschwaben.de/event/familienabend-ov-mutterstadt-9
LOCATION:Haus der Vereine\, Mutterstadt\, Mutterstadt\, 67112\, Germany
ORGANIZER;CN="Ortsverband Mutterstadt":MAILTO:katharina@eicher-mueller.de
END:VEVENT
BEGIN:VEVENT
DTSTART;TZID=Europe/Berlin:20260524T110000
DTEND;TZID=Europe/Berlin:20260524T180000
DTSTAMP:20260420T233614
CREATED:20260111T185042Z
LAST-MODIFIED:20260111T185042Z
UID:4169-1779620400-1779645600@bundesverband-donauschwaben.de
SUMMARY:Heimattreffen der HOG Bulkes in Kirchheim/Teck
DESCRIPTION:Heimattreffen der HOG Bulkes in Kirchheim/Teck\, Hotel Fuchsen
URL:https://bundesverband-donauschwaben.de/event/heimattreffen-der-hog-bulkes-in-kirchheim-teck
LOCATION:Kirchheim/Teck\, Kirchheim/Teck\, Germany
ORGANIZER;CN="HOG Bulkes":MAILTO:webmaster@hog-bulkes.de
END:VEVENT
BEGIN:VEVENT
DTSTART;TZID=Europe/Berlin:20260601T000000
DTEND;TZID=Europe/Berlin:20260601T235959
DTSTAMP:20260420T233614
CREATED:20251220T093006Z
LAST-MODIFIED:20251220T093006Z
UID:4085-1780272000-1780358399@bundesverband-donauschwaben.de
SUMMARY:Familienabend OV Mutterstadt
DESCRIPTION:Familienabend OV Mutterstadt
URL:https://bundesverband-donauschwaben.de/event/familienabend-ov-mutterstadt-10
LOCATION:Haus der Vereine\, Mutterstadt\, Mutterstadt\, 67112\, Germany
ORGANIZER;CN="Ortsverband Mutterstadt":MAILTO:katharina@eicher-mueller.de
END:VEVENT
BEGIN:VEVENT
DTSTART;TZID=Europe/Berlin:20260604T000000
DTEND;TZID=Europe/Berlin:20260607T235959
DTSTAMP:20260420T233614
CREATED:20251220T095711Z
LAST-MODIFIED:20251220T095733Z
UID:4102-1780531200-1780876799@bundesverband-donauschwaben.de
SUMMARY:Strohhutfest mit dem SKV Frankenthal
DESCRIPTION:Strohhutfest mit dem SKV Frankenthal
URL:https://bundesverband-donauschwaben.de/event/strohhutfest-mit-dem-skv-frankenthal
LOCATION:Frankenthal\, Frankenthal\, Germany
END:VEVENT
BEGIN:VEVENT
DTSTART;TZID=Europe/Berlin:20260606T000000
DTEND;TZID=Europe/Berlin:20260606T235959
DTSTAMP:20260420T233614
CREATED:20260304T124206Z
LAST-MODIFIED:20260304T124226Z
UID:4558-1780704000-1780790399@bundesverband-donauschwaben.de
SUMMARY:Tagesausflug des Kreisverbands Reutlingen
DESCRIPTION:Tagesausflug des Kreisverbands Reutlingen \nAnmeldungen per Telefon oder Mail ab jetzt sofort an Norbert Merkle möglich. Wir fahren an die Donau zur Schifffahrt\, anschließend Mittagessen und am Nachmittag sind wir in Dillingen an der Donau.
URL:https://bundesverband-donauschwaben.de/event/tagesausflug-des-ov-reutlingen
LOCATION:Reutlingen\, Germany
END:VEVENT
BEGIN:VEVENT
DTSTART;TZID=Europe/Berlin:20260611T150000
DTEND;TZID=Europe/Berlin:20260611T180000
DTSTAMP:20260420T233614
CREATED:20251220T094442Z
LAST-MODIFIED:20251220T095027Z
UID:4095-1781190000-1781200800@bundesverband-donauschwaben.de
SUMMARY:Seniorennachmittag im Haus Pannonia
DESCRIPTION:Seniorennachmittag im Haus Pannonia
URL:https://bundesverband-donauschwaben.de/event/seniorennachmittag-im-haus-pannonia-7
LOCATION:Haus Pannonia\, Friedrich-Ebert-Straße 106\, 67346 Speyer\, Speyer\, Germany
END:VEVENT
BEGIN:VEVENT
DTSTART;TZID=Europe/Berlin:20260614T000000
DTEND;TZID=Europe/Berlin:20260614T235959
DTSTAMP:20260420T233614
CREATED:20251225T130032Z
LAST-MODIFIED:20251225T130032Z
UID:4129-1781395200-1781481599@bundesverband-donauschwaben.de
SUMMARY:Wallfahrt zum Dreifaltigkeitsberg in Spaichingen
DESCRIPTION:Wallfahrt zum Dreifaltigkeitsberg in Spaichingen
URL:https://bundesverband-donauschwaben.de/event/wallfahrt-zum-dreifaltigkeitsberg-in-spaichingen
LOCATION:Spaichingen\, Spaichingen\, Germany
ORGANIZER;CN="St.-Gerhards-Werk Stuttgart":MAILTO:akvo@blh.drs.de
END:VEVENT
BEGIN:VEVENT
DTSTART;TZID=Europe/Berlin:20260614T000000
DTEND;TZID=Europe/Berlin:20260614T235959
DTSTAMP:20260420T233614
CREATED:20251220T100036Z
LAST-MODIFIED:20251229T185149Z
UID:4105-1781395200-1781481599@bundesverband-donauschwaben.de
SUMMARY:Spanferkelessen KV Haßloch
DESCRIPTION:Spanferkelessen KV Haßloch\nAnmeldung: Vorstand@donaudeutsche-hassloch.de
URL:https://bundesverband-donauschwaben.de/event/spanferkelessen-kv-hassloch
LOCATION:Haßloch\, Haßloch\, Germany
ORGANIZER;CN="DDL Ha%C3%9Floch":MAILTO:vorstand@donaudeutsche-hassloch.de
END:VEVENT
BEGIN:VEVENT
DTSTART;TZID=Europe/Berlin:20260614T110000
DTEND;TZID=Europe/Berlin:20260614T133000
DTSTAMP:20260420T233614
CREATED:20260304T124459Z
LAST-MODIFIED:20260304T124523Z
UID:4563-1781434800-1781443800@bundesverband-donauschwaben.de
SUMMARY:Frühschoppen Kreisverband Reutlingen
DESCRIPTION:Frühschoppen Kreisverband Reutlingen im Garten des Sportheims FC Reutlingen. Es spielen die Weinbergmusikanten.
URL:https://bundesverband-donauschwaben.de/event/fruehschoppen-kreisverband-reutlingen
LOCATION:Garten des Sportheims FC Reutlingen\, Germany
END:VEVENT
BEGIN:VEVENT
DTSTART;TZID=Europe/Berlin:20260621T000000
DTEND;TZID=Europe/Berlin:20260621T235959
DTSTAMP:20260420T233614
CREATED:20260222T181606Z
LAST-MODIFIED:20260222T181606Z
UID:4511-1782000000-1782086399@bundesverband-donauschwaben.de
SUMMARY:OV Aldingen: Donauschwäbischer Tag am Vereinsheim
DESCRIPTION:OV Aldingen: Donauschwäbischer Tag am Vereinsheim
URL:https://bundesverband-donauschwaben.de/event/ov-aldingen-donauschwaebischer-tag-am-vereinsheim
LOCATION:Vereinsheim Aldingen\, Aldingen\, Germany
END:VEVENT
BEGIN:VEVENT
DTSTART;TZID=Europe/Berlin:20260627T000000
DTEND;TZID=Europe/Berlin:20260627T235959
DTSTAMP:20260420T233614
CREATED:20251220T100151Z
LAST-MODIFIED:20251220T100151Z
UID:4107-1782518400-1782604799@bundesverband-donauschwaben.de
SUMMARY:Grillfest SKV Frankenthal
DESCRIPTION:Grillfest SKV Frankenthal
URL:https://bundesverband-donauschwaben.de/event/grillfest-skv-frankenthal
LOCATION:Donauschwabenhaus Frankenthal\, Frankenthal\, Germany
END:VEVENT
BEGIN:VEVENT
DTSTART;TZID=Europe/Berlin:20260627T000000
DTEND;TZID=Europe/Berlin:20260627T235959
DTSTAMP:20260420T233614
CREATED:20251225T130321Z
LAST-MODIFIED:20251225T130321Z
UID:4133-1782518400-1782604799@bundesverband-donauschwaben.de
SUMMARY:Kulturtagung "Religion und Kirche im Umbruch\, 1989-2000"
DESCRIPTION:Kulturtagung „Religion und Kirche im Umbruch\, 1989-2000“
URL:https://bundesverband-donauschwaben.de/event/kulturtagung-religion-und-kirche-im-umbruch-1989-2000
ORGANIZER;CN="St.-Gerhards-Werk Stuttgart":MAILTO:akvo@blh.drs.de
END:VEVENT
BEGIN:VEVENT
DTSTART;TZID=Europe/Berlin:20260627T000000
DTEND;TZID=Europe/Berlin:20260627T235959
DTSTAMP:20260420T233614
CREATED:20260116T145103Z
LAST-MODIFIED:20260325T192820Z
UID:4185-1782518400-1782604799@bundesverband-donauschwaben.de
SUMMARY:Sommerfest des LV Bayern im Kulturzentrum Haus der Donauschwaben in Haar
DESCRIPTION:Sommerfest des LV Bayern im Kulturzentrum Haus der Donauschwaben in Haar
URL:https://bundesverband-donauschwaben.de/event/sommerfest-des-lv-bayern-im-kulturzentrum-haus-der-donauschwaben-in-haar
LOCATION:Haus der Donauschwaben in Haar\, Leibstraße 33\, Haar\, Bayern\, 85540\, Germany
ORGANIZER;CN="Landesverband Bayern":MAILTO:kulturzentrum@donauschwaben.bayern
END:VEVENT
BEGIN:VEVENT
DTSTART;TZID=Europe/Berlin:20260629T000000
DTEND;TZID=Europe/Berlin:20260629T235959
DTSTAMP:20260420T233614
CREATED:20251220T093046Z
LAST-MODIFIED:20251220T093046Z
UID:4087-1782691200-1782777599@bundesverband-donauschwaben.de
SUMMARY:Familienabend OV Mutterstadt
DESCRIPTION:Familienabend OV Mutterstadt
URL:https://bundesverband-donauschwaben.de/event/familienabend-ov-mutterstadt-11
LOCATION:Haus der Vereine\, Mutterstadt\, Mutterstadt\, 67112\, Germany
ORGANIZER;CN="Ortsverband Mutterstadt":MAILTO:katharina@eicher-mueller.de
END:VEVENT
BEGIN:VEVENT
DTSTART;TZID=Europe/Berlin:20260702T150000
DTEND;TZID=Europe/Berlin:20260702T180000
DTSTAMP:20260420T233614
CREATED:20260129T164735Z
LAST-MODIFIED:20260129T164735Z
UID:4377-1783004400-1783015200@bundesverband-donauschwaben.de
SUMMARY:Seniorennachmittag im Haus Pannonia
DESCRIPTION:Seniorennachmittag im Haus Pannonia
URL:https://bundesverband-donauschwaben.de/event/seniorennachmittag-im-haus-pannonia-8
LOCATION:Haus Pannonia\, Friedrich-Ebert-Straße 106\, 67346 Speyer\, Speyer\, Germany
END:VEVENT
BEGIN:VEVENT
DTSTART;TZID=Europe/Berlin:20260711T000000
DTEND;TZID=Europe/Berlin:20260712T235959
DTSTAMP:20260420T233614
CREATED:20251126T174020Z
LAST-MODIFIED:20251126T174020Z
UID:3893-1783728000-1783900799@bundesverband-donauschwaben.de
SUMMARY:65. Gelöbniswallfahrt der Donauschwaben Altötting
DESCRIPTION:65. Gelöbniswallfahrt der Donauschwaben Altötting
URL:https://bundesverband-donauschwaben.de/event/65-geloebniswallfahrt-der-donauschwaben-altoetting
LOCATION:Altötting\, Altötting\, Germany
ATTACH;FMTTYPE=image/jpeg:https://bundesverband-donauschwaben.de/wp-content/uploads/2025/11/Altoetting26.jpg
END:VEVENT
BEGIN:VEVENT
DTSTART;TZID=Europe/Berlin:20260711T000000
DTEND;TZID=Europe/Berlin:20260712T235959
DTSTAMP:20260420T233614
CREATED:20251225T130604Z
LAST-MODIFIED:20251225T130604Z
UID:4135-1783728000-1783900799@bundesverband-donauschwaben.de
SUMMARY:Gelöbniswallfahrt nach Altötting mit Bischof Böcskei
DESCRIPTION:Gelöbniswallfahrt nach Altötting mit Bischof Böcskei
URL:https://bundesverband-donauschwaben.de/event/geloebniswallfahrt-nach-altoetting-mit-bischof-boecskei
LOCATION:Altötting\, Altötting\, Germany
ORGANIZER;CN="St.-Gerhards-Werk Stuttgart":MAILTO:akvo@blh.drs.de
END:VEVENT
BEGIN:VEVENT
DTSTART;TZID=Europe/Berlin:20260713T000000
DTEND;TZID=Europe/Berlin:20260713T235959
DTSTAMP:20260420T233614
CREATED:20260129T163729Z
LAST-MODIFIED:20260129T163729Z
UID:4353-1783900800-1783987199@bundesverband-donauschwaben.de
SUMMARY:Familienabend OV Mutterstadt
DESCRIPTION:Familienabend OV Mutterstadt
URL:https://bundesverband-donauschwaben.de/event/familienabend-ov-mutterstadt-12
LOCATION:Haus der Vereine\, Mutterstadt\, Mutterstadt\, 67112\, Germany
ORGANIZER;CN="Ortsverband Mutterstadt":MAILTO:katharina@eicher-mueller.de
END:VEVENT
END:VCALENDAR